BEGIN:VCALENDAR
VERSION:2.0
PRODID:SchoolNow
CALSCALE:GREGORIAN
BEGIN:VEVENT
UID:e9419844-33ce-11ef-8ec3-0a58a9feac02
DTSTAMP:20240626T151554Z
SUMMARY:AES Picture Day
URL;VALUE=URI:https://www.arbor145.org/calendar/6169952/aes-picture-day
DTSTART;VALUE=DATE:20240910
DTEND;VALUE=DATE:20240911
END:VEVENT
END:VCALENDAR
