BEGIN:VCALENDAR
VERSION:2.0
PRODID:SchoolNow
CALSCALE:GREGORIAN
BEGIN:VEVENT
UID:2b460f9a-33cf-11ef-975f-0efcfb9bc093
DTSTAMP:20240626T151714Z
SUMMARY:AES Halloween Parade
URL;VALUE=URI:https://www.arbor145.org/calendar/6170598/aes-halloween-parad
 e
DTSTART:20241031T150000Z
DTEND:20241031T153000Z
END:VEVENT
END:VCALENDAR
