BEGIN:VCALENDAR
VERSION:2.0
PRODID:SchoolNow
CALSCALE:GREGORIAN
BEGIN:VEVENT
UID:403a3598-33cf-11ef-a537-0a58a9feac02
DTSTAMP:20240626T151750Z
SUMMARY:AES Picture Retakes
URL;VALUE=URI:https://www.arbor145.org/calendar/6170922/aes-picture-retakes
DTSTART;VALUE=DATE:20241015
DTEND;VALUE=DATE:20241016
END:VEVENT
END:VCALENDAR
