BEGIN:VCALENDAR
VERSION:2.0
PRODID:SchoolNow
CALSCALE:GREGORIAN
BEGIN:VEVENT
UID:6476f1ee-33cf-11ef-98b1-0213255238c5
DTSTAMP:20240626T151850Z
SUMMARY:AES Family Reading Night
URL;VALUE=URI:https://www.arbor145.org/calendar/6170924/aes-family-reading-
 night
DTSTART:20241122T000000Z
DTEND:20241122T013000Z
END:VEVENT
END:VCALENDAR
