BEGIN:VCALENDAR
VERSION:2.0
PRODID:SchoolNow
CALSCALE:GREGORIAN
BEGIN:VEVENT
UID:d5ade3b8-33cf-11ef-a2fa-0affdeb10cc3
DTSTAMP:20240626T152200Z
SUMMARY:AES Fall Book Fair
URL;VALUE=URI:https://www.arbor145.org/calendar/6170946/aes-fall-book-fair
DTSTART;VALUE=DATE:20241121
DTEND;VALUE=DATE:20241127
END:VEVENT
END:VCALENDAR
