BEGIN:VCALENDAR
VERSION:2.0
PRODID:SchoolNow
CALSCALE:GREGORIAN
BEGIN:VEVENT
UID:0a4d0536-33d0-11ef-87d5-0a58a9feac02
DTSTAMP:20240626T152329Z
SUMMARY:AES Science Fair
URL;VALUE=URI:https://www.arbor145.org/calendar/6170947/aes-science-fair
DTSTART;VALUE=DATE:20250411
DTEND;VALUE=DATE:20250412
END:VEVENT
END:VCALENDAR
