BEGIN:VCALENDAR
VERSION:2.0
PRODID:SchoolNow
CALSCALE:GREGORIAN
BEGIN:VEVENT
UID:1dd24422-33d0-11ef-8178-0efcfb9bc093
DTSTAMP:20240626T152401Z
SUMMARY:AES Spring Pictures
URL;VALUE=URI:https://www.arbor145.org/calendar/6170948/aes-spring-pictures
DTSTART;VALUE=DATE:20250403
DTEND;VALUE=DATE:20250404
END:VEVENT
END:VCALENDAR
