BEGIN:VCALENDAR
VERSION:2.0
PRODID:SchoolNow
CALSCALE:GREGORIAN
BEGIN:VEVENT
UID:393aa114-33d0-11ef-8b47-0a58a9feac02
DTSTAMP:20240626T152516Z
SUMMARY:AES Step Up Day
URL;VALUE=URI:https://www.arbor145.org/calendar/6170949/aes-step-up-day
DTSTART;VALUE=DATE:20250506
DTEND;VALUE=DATE:20250507
END:VEVENT
END:VCALENDAR
