BEGIN:VCALENDAR
VERSION:2.0
PRODID:SchoolNow
CALSCALE:GREGORIAN
BEGIN:VEVENT
UID:63c8a700-33d0-11ef-9afc-0a58a9feac02
DTSTAMP:20240626T152559Z
SUMMARY:AES Spring Book Fair
URL;VALUE=URI:https://www.arbor145.org/calendar/6170950/aes-spring-book-fai
 r
DTSTART;VALUE=DATE:20250512
DTEND;VALUE=DATE:20250517
END:VEVENT
END:VCALENDAR
