BEGIN:VCALENDAR
VERSION:2.0
PRODID:SchoolNow
CALSCALE:GREGORIAN
BEGIN:VEVENT
UID:9e6468bc-33d1-11ef-8ece-02de16e5324b
DTSTAMP:20240626T154444Z
SUMMARY:AES Circus Parent Meeting
URL;VALUE=URI:https://www.arbor145.org/calendar/6171013/aes-circus-parent-m
 eeting
DTSTART:20250513T230000Z
DTEND:20250514T010000Z
END:VEVENT
END:VCALENDAR
