BEGIN:VCALENDAR
VERSION:2.0
PRODID:SchoolNow
CALSCALE:GREGORIAN
BEGIN:VEVENT
UID:30845580-33d3-11ef-9ae2-0a58a9feac02
DTSTAMP:20240626T154601Z
SUMMARY:AES Circus Day
URL;VALUE=URI:https://www.arbor145.org/calendar/6171014/aes-circus-day
DTSTART;VALUE=DATE:20250514
DTEND;VALUE=DATE:20250515
END:VEVENT
END:VCALENDAR
