BEGIN:VCALENDAR
VERSION:2.0
PRODID:SchoolNow
CALSCALE:GREGORIAN
BEGIN:VEVENT
UID:457dc5de-33d3-11ef-95c4-0affdeb10cc3
DTSTAMP:20240626T154636Z
SUMMARY:AES Field Day
URL;VALUE=URI:https://www.arbor145.org/calendar/6171015/aes-field-day
DTSTART;VALUE=DATE:20250521
DTEND;VALUE=DATE:20250522
END:VEVENT
END:VCALENDAR
