BEGIN:VCALENDAR
VERSION:2.0
PRODID:SchoolNow
CALSCALE:GREGORIAN
BEGIN:VEVENT
UID:2cfd3688-33d4-11ef-8087-0a58a9feac02
DTSTAMP:20240626T155305Z
SUMMARY:SOS Curriculum Night
URL;VALUE=URI:https://www.arbor145.org/calendar/6171016/sos-curriculum-nigh
 t
DTSTART:20240827T210000Z
DTEND:20240827T223000Z
END:VEVENT
END:VCALENDAR
