BEGIN:VCALENDAR
VERSION:2.0
PRODID:SchoolNow
CALSCALE:GREGORIAN
BEGIN:VEVENT
UID:40ae787c-33d4-11ef-921e-0a58a9feac02
DTSTAMP:20240626T155338Z
SUMMARY:SOS Picture Day
URL;VALUE=URI:https://www.arbor145.org/calendar/6171017/sos-picture-day
DTSTART;VALUE=DATE:20240917
DTEND;VALUE=DATE:20240918
END:VEVENT
END:VCALENDAR
