BEGIN:VCALENDAR
VERSION:2.0
PRODID:SchoolNow
CALSCALE:GREGORIAN
BEGIN:VEVENT
UID:56ca35a6-33d4-11ef-8d4f-0affe900a1ff
DTSTAMP:20241030T200843Z
SUMMARY:SOS Halloween Parade
URL;VALUE=URI:https://www.arbor145.org/calendar/6171018/sos-halloween-parad
 e
DTSTART:20241031T154500Z
DTEND:20241031T161500Z
END:VEVENT
END:VCALENDAR
