BEGIN:VCALENDAR
VERSION:2.0
PRODID:SchoolNow
CALSCALE:GREGORIAN
BEGIN:VEVENT
UID:670aebc2-33d4-11ef-a427-0a58a9feac02
DTSTAMP:20240626T155442Z
SUMMARY:SOS Picture Retakes
URL;VALUE=URI:https://www.arbor145.org/calendar/6171019/sos-picture-retakes
DTSTART;VALUE=DATE:20241112
DTEND;VALUE=DATE:20241113
END:VEVENT
END:VCALENDAR
