BEGIN:VCALENDAR
VERSION:2.0
PRODID:SchoolNow
CALSCALE:GREGORIAN
BEGIN:VEVENT
UID:8cd4e45c-33d4-11ef-8acf-0a58a9feac02
DTSTAMP:20240626T155546Z
SUMMARY:SOS Spring Pictures
URL;VALUE=URI:https://www.arbor145.org/calendar/6171020/sos-spring-pictures
DTSTART;VALUE=DATE:20250424
DTEND;VALUE=DATE:20250425
END:VEVENT
END:VCALENDAR
