BEGIN:VCALENDAR
VERSION:2.0
PRODID:SchoolNow
CALSCALE:GREGORIAN
BEGIN:VEVENT
UID:c635674e-33d4-11ef-a12f-02de16e5324b
DTSTAMP:20250409T191747Z
SUMMARY:SOS Field Day
URL;VALUE=URI:https://www.arbor145.org/calendar/6171023/sos-field-day
DTSTART;VALUE=DATE:20250529
DTEND;VALUE=DATE:20250530
END:VEVENT
END:VCALENDAR
