BEGIN:VCALENDAR
VERSION:2.0
PRODID:SchoolNow
CALSCALE:GREGORIAN
BEGIN:VEVENT
UID:a99f4bac-33d6-11ef-bb4c-0a58a9feac02
DTSTAMP:20240626T161053Z
SUMMARY:APMS Locker Prep
URL;VALUE=URI:https://www.arbor145.org/calendar/6171026/apms-locker-prep
DTSTART:20240815T200000Z
DTEND:20240815T230000Z
END:VEVENT
END:VCALENDAR
