BEGIN:VCALENDAR
VERSION:2.0
PRODID:SchoolNow
CALSCALE:GREGORIAN
BEGIN:VEVENT
UID:0a724ede-33d7-11ef-8e11-0a58a9feac02
DTSTAMP:20240626T161335Z
SUMMARY:Institute Day
URL;VALUE=URI:https://www.arbor145.org/calendar/6171027/institute-day
DTSTART:20240819T130000Z
DTEND:20240819T183000Z
END:VEVENT
END:VCALENDAR
