BEGIN:VCALENDAR
VERSION:2.0
PRODID:SchoolNow
CALSCALE:GREGORIAN
BEGIN:VEVENT
UID:2e42e4f4-33d7-11ef-b8a8-0252974d257d
DTSTAMP:20240626T161435Z
SUMMARY:Institute Day
URL;VALUE=URI:https://www.arbor145.org/calendar/6171028/institute-day
DTSTART:20240820T130000Z
DTEND:20240820T201500Z
END:VEVENT
END:VCALENDAR
