BEGIN:VCALENDAR
VERSION:2.0
PRODID:SchoolNow
CALSCALE:GREGORIAN
BEGIN:VEVENT
UID:5c919878-33d7-11ef-a69c-0a58a9feac02
DTSTAMP:20240626T161553Z
SUMMARY:First Day of School - Trimester 1 Begins
URL;VALUE=URI:https://www.arbor145.org/calendar/6171029/first-day-of-school
 -trimester-1-begins
DTSTART;VALUE=DATE:20240821
DTEND;VALUE=DATE:20240822
END:VEVENT
END:VCALENDAR
