BEGIN:VCALENDAR
VERSION:2.0
PRODID:SchoolNow
CALSCALE:GREGORIAN
BEGIN:VEVENT
UID:d3847bbc-33d7-11ef-900d-0a58a9feac02
DTSTAMP:20240723T142527Z
SUMMARY:APMS Volleyball Arbor vs Central Park
URL;VALUE=URI:https://www.arbor145.org/calendar/6171031/apms-volleyball-arb
 or-vs-central-park-tentative
DTSTART;VALUE=DATE:20240828
DTEND;VALUE=DATE:20240829
END:VEVENT
END:VCALENDAR
