BEGIN:VCALENDAR
VERSION:2.0
PRODID:SchoolNow
CALSCALE:GREGORIAN
BEGIN:VEVENT
UID:0f157bfe-33d8-11ef-a3ea-0a58a9feac02
DTSTAMP:20240626T162053Z
SUMMARY:APMS Expectation Night for Parents/Students 5th - 8th Grade
URL;VALUE=URI:https://www.arbor145.org/calendar/6171032/apms-expectation-ni
 ght-for-parents-students-5th-8th-grade
DTSTART:20240829T230000Z
DTEND:20240830T003000Z
END:VEVENT
END:VCALENDAR
