BEGIN:VCALENDAR
VERSION:2.0
PRODID:SchoolNow
CALSCALE:GREGORIAN
BEGIN:VEVENT
UID:29e90590-33d8-11ef-a98d-0213255238c5
DTSTAMP:20240626T162138Z
SUMMARY:Labor Day - School Closed
URL;VALUE=URI:https://www.arbor145.org/calendar/6171033/labor-day-school-cl
 osed
DTSTART;VALUE=DATE:20240902
DTEND;VALUE=DATE:20240903
END:VEVENT
END:VCALENDAR
