BEGIN:VCALENDAR
VERSION:2.0
PRODID:SchoolNow
CALSCALE:GREGORIAN
BEGIN:VEVENT
UID:4683dd4c-33d8-11ef-bbb1-0a58a9feac02
DTSTAMP:20240626T162226Z
SUMMARY:APMS Volleyball Arbor @ Independence
URL;VALUE=URI:https://www.arbor145.org/calendar/6171034/apms-volleyball-arb
 or-independence
DTSTART;VALUE=DATE:20240903
DTEND;VALUE=DATE:20240904
END:VEVENT
END:VCALENDAR
