BEGIN:VCALENDAR
VERSION:2.0
PRODID:SchoolNow
CALSCALE:GREGORIAN
BEGIN:VEVENT
UID:5416107e-33d8-11ef-b2ad-0a58a9feac02
DTSTAMP:20240626T162248Z
SUMMARY:APMS Volleyball Arbor @ Finley
URL;VALUE=URI:https://www.arbor145.org/calendar/6171035/apms-volleyball-arb
 or-finley
DTSTART;VALUE=DATE:20240905
DTEND;VALUE=DATE:20240906
END:VEVENT
END:VCALENDAR
