BEGIN:VCALENDAR
VERSION:2.0
PRODID:SchoolNow
CALSCALE:GREGORIAN
BEGIN:VEVENT
UID:ca71f1d8-33d9-11ef-9dd9-0a58a9feac02
DTSTAMP:20240903T133937Z
SUMMARY:APMS 5th Grade Beginning Band Sign Up
URL;VALUE=URI:https://www.arbor145.org/calendar/6171038/apms-5th-grade-begi
 nning-band-sign-up
DTSTART:20240904T230000Z
DTEND:20240905T003000Z
END:VEVENT
END:VCALENDAR
