BEGIN:VCALENDAR
VERSION:2.0
PRODID:SchoolNow
CALSCALE:GREGORIAN
BEGIN:VEVENT
UID:5ddd6e5c-33da-11ef-be48-0a58a9feac02
DTSTAMP:20240626T163724Z
SUMMARY:APMS Volleyball Arbor vs Hamlin
URL;VALUE=URI:https://www.arbor145.org/calendar/6171039/apms-volleyball-arb
 or-vs-hamlin
DTSTART;VALUE=DATE:20240909
DTEND;VALUE=DATE:20240910
END:VEVENT
END:VCALENDAR
