BEGIN:VCALENDAR
VERSION:2.0
PRODID:SchoolNow
CALSCALE:GREGORIAN
BEGIN:VEVENT
UID:bd648f18-33da-11ef-ad0d-0a58a9feac02
DTSTAMP:20240626T164024Z
SUMMARY:APMS Volleyball Arbor @ Kolmar
URL;VALUE=URI:https://www.arbor145.org/calendar/6171040/apms-volleyball-arb
 or-kolmar
DTSTART;VALUE=DATE:20240910
DTEND;VALUE=DATE:20240911
END:VEVENT
END:VCALENDAR
