BEGIN:VCALENDAR
VERSION:2.0
PRODID:SchoolNow
CALSCALE:GREGORIAN
BEGIN:VEVENT
UID:df49ff14-33da-11ef-bafc-0affe900a1ff
DTSTAMP:20240626T164101Z
SUMMARY:APMS Fall Picture Day
URL;VALUE=URI:https://www.arbor145.org/calendar/6171041/apms-fall-picture-d
 ay
DTSTART;VALUE=DATE:20240911
DTEND;VALUE=DATE:20240912
END:VEVENT
END:VCALENDAR
