BEGIN:VCALENDAR
VERSION:2.0
PRODID:SchoolNow
CALSCALE:GREGORIAN
BEGIN:VEVENT
UID:0cdb9f28-33db-11ef-9ea6-0a58a9feac02
DTSTAMP:20240626T164217Z
SUMMARY:APMS Volleyball Arbor vs Wilkins
URL;VALUE=URI:https://www.arbor145.org/calendar/6171042/apms-volleyball-arb
 or-vs-wilkins
DTSTART;VALUE=DATE:20240912
DTEND;VALUE=DATE:20240913
END:VEVENT
END:VCALENDAR
