BEGIN:VCALENDAR
VERSION:2.0
PRODID:SchoolNow
CALSCALE:GREGORIAN
BEGIN:VEVENT
UID:5ffb4c52-33dc-11ef-b7fa-02de16e5324b
DTSTAMP:20240626T165146Z
SUMMARY:APMS Volleyball Arbor vs Prairie
URL;VALUE=URI:https://www.arbor145.org/calendar/6171043/apms-volleyball-arb
 or-vs-prairie
DTSTART;VALUE=DATE:20240917
DTEND;VALUE=DATE:20240918
END:VEVENT
END:VCALENDAR
