BEGIN:VCALENDAR
VERSION:2.0
PRODID:SchoolNow
CALSCALE:GREGORIAN
BEGIN:VEVENT
UID:79f3ad3e-33dc-11ef-9719-0efcfb9bc093
DTSTAMP:20240626T165230Z
SUMMARY:APMS Volleyball Arbor vs Worth
URL;VALUE=URI:https://www.arbor145.org/calendar/6171044/apms-volleyball-arb
 or-vs-worth
DTSTART;VALUE=DATE:20240919
DTEND;VALUE=DATE:20240920
END:VEVENT
END:VCALENDAR
