BEGIN:VCALENDAR
VERSION:2.0
PRODID:SchoolNow
CALSCALE:GREGORIAN
BEGIN:VEVENT
UID:8eb39b26-33dc-11ef-b829-0a58a9feac02
DTSTAMP:20240626T165305Z
SUMMARY:APMS Volleyball Tournament Playoffs TBD
URL;VALUE=URI:https://www.arbor145.org/calendar/6171045/apms-volleyball-tou
 rnament-playoffs-tbd
DTSTART;VALUE=DATE:20240924
DTEND;VALUE=DATE:20240925
END:VEVENT
END:VCALENDAR
