BEGIN:VCALENDAR
VERSION:2.0
PRODID:SchoolNow
CALSCALE:GREGORIAN
BEGIN:VEVENT
UID:58cb30d6-33fb-11ef-83a4-0a58a9feac02
DTSTAMP:20240626T203329Z
SUMMARY:Mid Trimester 1 Grades Due
URL;VALUE=URI:https://www.arbor145.org/calendar/6171404/mid-trimester-1-gra
 des-due
DTSTART;VALUE=DATE:20240925
DTEND;VALUE=DATE:20240926
END:VEVENT
END:VCALENDAR
