BEGIN:VCALENDAR
VERSION:2.0
PRODID:SchoolNow
CALSCALE:GREGORIAN
BEGIN:VEVENT
UID:693f78f0-33fb-11ef-ba51-0a58a9feac02
DTSTAMP:20240626T203419Z
SUMMARY:Volleyball Tournament @ Wilkins
URL;VALUE=URI:https://www.arbor145.org/calendar/6171405/volleyball-tourname
 nt-wilkins
DTSTART;VALUE=DATE:20240926
DTEND;VALUE=DATE:20240927
END:VEVENT
END:VCALENDAR
