BEGIN:VCALENDAR
VERSION:2.0
PRODID:SchoolNow
CALSCALE:GREGORIAN
BEGIN:VEVENT
UID:8e5dbcaa-33fb-11ef-aca7-0e3f006457b7
DTSTAMP:20240626T203459Z
SUMMARY:Mid Trimester 1 Progress Reports Available in ALMA
URL;VALUE=URI:https://www.arbor145.org/calendar/6171406/mid-trimester-1-pro
 gress-reports-available-in-alma
DTSTART;VALUE=DATE:20240927
DTEND;VALUE=DATE:20240928
END:VEVENT
END:VCALENDAR
