BEGIN:VCALENDAR
VERSION:2.0
PRODID:SchoolNow
CALSCALE:GREGORIAN
BEGIN:VEVENT
UID:9d758f60-33fb-11ef-b1ea-0e3f006457b7
DTSTAMP:20240626T203715Z
SUMMARY:Volleyball Tournament @ Wilkins
URL;VALUE=URI:https://www.arbor145.org/calendar/6171407/volleyball-tourname
 nt-wilkins
DTSTART;VALUE=DATE:20240930
DTEND;VALUE=DATE:20241001
END:VEVENT
END:VCALENDAR
