BEGIN:VCALENDAR
VERSION:2.0
PRODID:SchoolNow
CALSCALE:GREGORIAN
BEGIN:VEVENT
UID:8534b650-37bc-11ef-b44e-0e3f006457b7
DTSTAMP:20240701T151349Z
SUMMARY:Volleyball Tournament @ Wilkins
URL;VALUE=URI:https://www.arbor145.org/calendar/6192592/volleyball-tourname
 nt-wilkins
DTSTART;VALUE=DATE:20241001
DTEND;VALUE=DATE:20241002
END:VEVENT
END:VCALENDAR
