BEGIN:VCALENDAR
VERSION:2.0
PRODID:SchoolNow
CALSCALE:GREGORIAN
BEGIN:VEVENT
UID:cb4712d6-37bd-11ef-86d5-0e3f006457b7
DTSTAMP:20240701T152257Z
SUMMARY:Volleyball Tournament Championship @ Wilkins
URL;VALUE=URI:https://www.arbor145.org/calendar/6192593/volleyball-tourname
 nt-championship-wilkins
DTSTART;VALUE=DATE:20241003
DTEND;VALUE=DATE:20241004
END:VEVENT
END:VCALENDAR
