BEGIN:VCALENDAR
VERSION:2.0
PRODID:SchoolNow
CALSCALE:GREGORIAN
BEGIN:VEVENT
UID:84922a04-37c4-11ef-b97b-0a58a9feac02
DTSTAMP:20240701T161104Z
SUMMARY:Volleyball All Star Game @ Kolmar
URL;VALUE=URI:https://www.arbor145.org/calendar/6192594/volleyball-all-star
 -game-kolmar
DTSTART;VALUE=DATE:20241008
DTEND;VALUE=DATE:20241009
END:VEVENT
END:VCALENDAR
