BEGIN:VCALENDAR
VERSION:2.0
PRODID:SchoolNow
CALSCALE:GREGORIAN
BEGIN:VEVENT
UID:d3595f90-37c4-11ef-be63-0a58a9feac02
DTSTAMP:20240701T161317Z
SUMMARY:GBB: Arbor @ Central Park
URL;VALUE=URI:https://www.arbor145.org/calendar/6192596/gbb-arbor-central-p
 ark
DTSTART;VALUE=DATE:20241015
DTEND;VALUE=DATE:20241016
END:VEVENT
END:VCALENDAR
