BEGIN:VCALENDAR
VERSION:2.0
PRODID:SchoolNow
CALSCALE:GREGORIAN
BEGIN:VEVENT
UID:20f610f4-37c5-11ef-a683-0affe900a1ff
DTSTAMP:20240701T161527Z
SUMMARY:APMS Fall Picture Retakes
URL;VALUE=URI:https://www.arbor145.org/calendar/6192597/apms-fall-picture-r
 etakes
DTSTART;VALUE=DATE:20241016
DTEND;VALUE=DATE:20241017
END:VEVENT
END:VCALENDAR
