BEGIN:VCALENDAR
VERSION:2.0
PRODID:SchoolNow
CALSCALE:GREGORIAN
BEGIN:VEVENT
UID:416c5eba-37c5-11ef-94cd-0efded0f69c3
DTSTAMP:20240701T161621Z
SUMMARY:GBB: Arbor vs Hamlin
URL;VALUE=URI:https://www.arbor145.org/calendar/6192598/gbb-arbor-vs-hamlin
DTSTART;VALUE=DATE:20241017
DTEND;VALUE=DATE:20241018
END:VEVENT
END:VCALENDAR
