BEGIN:VCALENDAR
VERSION:2.0
PRODID:SchoolNow
CALSCALE:GREGORIAN
BEGIN:VEVENT
UID:756ff7d0-37c5-11ef-840b-0a58a9feac02
DTSTAMP:20240701T161749Z
SUMMARY:GBB: Arbor @ Independence
URL;VALUE=URI:https://www.arbor145.org/calendar/6192599/gbb-arbor-independe
 nce
DTSTART;VALUE=DATE:20241022
DTEND;VALUE=DATE:20241023
END:VEVENT
END:VCALENDAR
