BEGIN:VCALENDAR
VERSION:2.0
PRODID:SchoolNow
CALSCALE:GREGORIAN
BEGIN:VEVENT
UID:956236f2-37c5-11ef-a36c-02de16e5324b
DTSTAMP:20240701T161842Z
SUMMARY:GBB: Arbor @ Wilkins
URL;VALUE=URI:https://www.arbor145.org/calendar/6192600/gbb-arbor-wilkins
DTSTART;VALUE=DATE:20241024
DTEND;VALUE=DATE:20241025
END:VEVENT
END:VCALENDAR
