BEGIN:VCALENDAR
VERSION:2.0
PRODID:SchoolNow
CALSCALE:GREGORIAN
BEGIN:VEVENT
UID:a89a716c-37c5-11ef-8135-0a58a9feac02
DTSTAMP:20240701T161914Z
SUMMARY:Red Ribbon Week
URL;VALUE=URI:https://www.arbor145.org/calendar/6192601/red-ribbon-week
DTSTART;VALUE=DATE:20241023
DTEND;VALUE=DATE:20241101
END:VEVENT
END:VCALENDAR
