BEGIN:VCALENDAR
VERSION:2.0
PRODID:SchoolNow
CALSCALE:GREGORIAN
BEGIN:VEVENT
UID:f80fa14a-37c5-11ef-8209-0a58a9feac02
DTSTAMP:20240701T162128Z
SUMMARY:GBB: Arbor vs Finley
URL;VALUE=URI:https://www.arbor145.org/calendar/6192602/gbb-arbor-vs-finley
DTSTART;VALUE=DATE:20241028
DTEND;VALUE=DATE:20241029
END:VEVENT
END:VCALENDAR
