BEGIN:VCALENDAR
VERSION:2.0
PRODID:SchoolNow
CALSCALE:GREGORIAN
BEGIN:VEVENT
UID:02917580-37c6-11ef-8512-0a58a9feac02
DTSTAMP:20240701T162145Z
SUMMARY:GBB: Arbor vs Worth
URL;VALUE=URI:https://www.arbor145.org/calendar/6192603/gbb-arbor-vs-worth
DTSTART;VALUE=DATE:20241029
DTEND;VALUE=DATE:20241030
END:VEVENT
END:VCALENDAR
